BEGIN:VCALENDAR
VERSION:2.0
PRODID:-//Secteur Deux-Rivières-de-Laval - ECPv5.14.0.4//NONSGML v1.0//EN
CALSCALE:GREGORIAN
METHOD:PUBLISH
X-WR-CALNAME:Secteur Deux-Rivières-de-Laval
X-ORIGINAL-URL:https://deuxriviereslaval.areq.lacsq.org
X-WR-CALDESC:évènements pour Secteur Deux-Rivières-de-Laval
BEGIN:VTIMEZONE
TZID:America/New_York
BEGIN:DAYLIGHT
TZOFFSETFROM:-0500
TZOFFSETTO:-0400
TZNAME:EDT
DTSTART:20240310T070000
END:DAYLIGHT
BEGIN:STANDARD
TZOFFSETFROM:-0400
TZOFFSETTO:-0500
TZNAME:EST
DTSTART:20241103T060000
END:STANDARD
END:VTIMEZONE
BEGIN:VEVENT
DTSTART;TZID=America/New_York:20240606T102500
DTEND;TZID=America/New_York:20240606T150000
DTSTAMP:20260424T013906
CREATED:20240504T010955Z
LAST-MODIFIED:20240504T010955Z
UID:1969-1717669500-1717686000@deuxriviereslaval.areq.lacsq.org
SUMMARY:Visite théâtrale et dîner
DESCRIPTION:Nous vous proposons deux activités pour clore en beauté notre année.  Vous pouvez vous inscrire à une de celles-ci ou\, encore mieux\, aux deux! \n\nPremière activité :    Visite théâtrale de Saint-Vincent-de–Paul   \n  \n« Les recoins à Césaire Germain » \n\nNous explorerons les richesses historiques de ce quartier en compagnie d’un guide-animateur.trice et de personnages colorés qui vous feront découvrir la naissance et l’essor de cette paroisse. \nGrâce aux indices laissés par le fantôme de César Germain\, vous croiserez sur votre chemin Vincent Chartrand\, le sculpteur\, un bedeau avenant et un drôle de Moineau qui longe discrètement les murs du vieux pénitencier Saint-Vincent-de-Paul. \n  \nCette visite à pied sera d’une durée d’environ une heure et quinze minutes\, de 10h25 à 11h40\, et sera limitée à un maximum de seulement 25 personnes. Le coût est d’environ 25$ par personne et est entièrement assumé par le secteur. C’est donc gratuit pour vous. Premiers inscrits\, premiers acceptés. \n  \nLe départ de la visite se fera donc à 10h25 devant le 1086 Av. du Collège\, près du Collège Laval et de l’église Saint-Vincent-de-Paul. (Stationnement dans les rues avoisinantes)  \n\nDeuxième activité :    Dîner au restaurant « Le Vieux Four » \n  \nÀ 12h00\, au 5070 boul. Lévesque est (sur la terrasse si possible). \n\nVous inscrire à ces activités sur notre boîte vocale: 450-936-1028 \nVotre conjoint.e ou un.e ami.e peut vous accompagner
URL:https://deuxriviereslaval.areq.lacsq.org/event/visite-theatrale-et-diner/
END:VEVENT
END:VCALENDAR