BEGIN:VCALENDAR
VERSION:2.0
PRODID:-//Secteur Deux-Rivières-de-Laval - ECPv5.14.0.4//NONSGML v1.0//EN
CALSCALE:GREGORIAN
METHOD:PUBLISH
X-WR-CALNAME:Secteur Deux-Rivières-de-Laval
X-ORIGINAL-URL:https://deuxriviereslaval.areq.lacsq.org
X-WR-CALDESC:évènements pour Secteur Deux-Rivières-de-Laval
BEGIN:VTIMEZONE
TZID:America/New_York
BEGIN:DAYLIGHT
TZOFFSETFROM:-0500
TZOFFSETTO:-0400
TZNAME:EDT
DTSTART:20190310T070000
END:DAYLIGHT
BEGIN:STANDARD
TZOFFSETFROM:-0400
TZOFFSETTO:-0500
TZNAME:EST
DTSTART:20191103T060000
END:STANDARD
END:VTIMEZONE
BEGIN:VEVENT
DTSTART;TZID=America/New_York:20191016T133000
DTEND;TZID=America/New_York:20191016T133000
DTSTAMP:20260424T085855
CREATED:20190924T174653Z
LAST-MODIFIED:20190924T174653Z
UID:835-1571232600-1571232600@deuxriviereslaval.areq.lacsq.org
SUMMARY:Visite de l'atelier de tissage des Tisserins de Laval
DESCRIPTION:Le Conseil sectoriel vous invite à une visite de l’atelier de tissage des Tisserins de Laval\, un groupe de tissage axé sur la formation\, la recherche et la diffusion de cet art ancestral. Vous pourrez voir plus de vingt métiers différents\, dont plusieurs métiers informatisés de différents formats\, et vous pourrez même faire quelques duites sur un métier.\n\nL’atelier est situé au sous-sol de l’église du Bon-Pasteur\, dans Laval-des-Rapides\, angle Laurier et Dussault  (au sud de boul. Cartier); je précise qu’il y a un long escalier à descendre (et à remonter) !\nLe point de rendez-vous : le perron de l’église ou à l’intérieur dans le portique\, en cas de pluie.\n\n\nSi vous êtes intéressés mais ne pouvez être présents\, l’atelier ouvre aussi ses portes dimanche\n le 29 septembre\, entre 10 h et 15 h\, pour les Journées de la Culture.\n\nJe vous accueillerai avec grand plaisir\,\nDenise Fréchette\nresponsable des Communications (et membre des Tisserins de Laval)
URL:https://deuxriviereslaval.areq.lacsq.org/event/visite-de-latelier-de-tissage-des-tisserins-de-laval/
LOCATION:Sous-sol de l’église du Bon-Pasteur\, dans Laval-des-Rapides\, angle Laurier et Dussault\, 400 rue Laurier\, Laval\, Québec\, H7N 2P6\, Canada
END:VEVENT
END:VCALENDAR