BEGIN:VCALENDAR
VERSION:2.0
PRODID:-//Secteur Deux-Rivières-de-Laval - ECPv5.14.0.4//NONSGML v1.0//EN
CALSCALE:GREGORIAN
METHOD:PUBLISH
X-WR-CALNAME:Secteur Deux-Rivières-de-Laval
X-ORIGINAL-URL:https://deuxriviereslaval.areq.lacsq.org
X-WR-CALDESC:évènements pour Secteur Deux-Rivières-de-Laval
BEGIN:VTIMEZONE
TZID:America/New_York
BEGIN:DAYLIGHT
TZOFFSETFROM:-0500
TZOFFSETTO:-0400
TZNAME:EDT
DTSTART:20230312T070000
END:DAYLIGHT
BEGIN:STANDARD
TZOFFSETFROM:-0400
TZOFFSETTO:-0500
TZNAME:EST
DTSTART:20231105T060000
END:STANDARD
END:VTIMEZONE
BEGIN:VEVENT
DTSTART;TZID=America/New_York:20230614T100000
DTEND;TZID=America/New_York:20230614T123000
DTSTAMP:20260424T033103
CREATED:20230506T194052Z
LAST-MODIFIED:20230506T194052Z
UID:1778-1686736800-1686745800@deuxriviereslaval.areq.lacsq.org
SUMMARY:Sortie au Musée Armand-Frappier
DESCRIPTION:Sortie au Musée Armand-Frappier \n2150 Autoroute 15 (à côté du Cosmodôme)\nMercredi le 14 Juin de 10h00 à 12h15 – \n13\,23$ par personne – \nMaximum de 24 personnes \nDate limite d’inscription\nJeudi 1 juin 2023  auprès de notre trésorier\nDaniel Thouin 450-662-2496 \nou d.thouin@sympatico.ca\n \n« Pandémies : l’humanité au défi » \nSi la cohabitation des humains avec les microorganismes est souvent utile ou sans conséquence\,\n\n\nelle est cependant à l’origine de grandes crises sanitaires : les pandémies.\n \na) Vous serez invité à participer à un jeu-questionnaire. En répondant aux questions à l’aide\nd’un bracelet interactif\, votre défi sera d’endiguer une pandémie fictive. (45 minutes)\n \nb) Après avoir compris ce qu’est un vaccin et quelles sont les grandes étapes de sa\n    fabrication\, vous appliquerez la démarche scientifique en réalisant une expérience en\n    laboratoire pour résoudre un enjeu associé à la création d’un nouveau vaccin. (45 minutes)\n\n\n\nJacinthe Joncas\, Comité des communications\n450-918-3648
URL:https://deuxriviereslaval.areq.lacsq.org/event/sortie-au-musee-armand-frappier/
LOCATION:Musée Armand-Frappier\, 531 boul. des Prairies\, Laval
END:VEVENT
END:VCALENDAR