BEGIN:VCALENDAR
VERSION:2.0
PRODID:-//Secteur Deux-Rivières-de-Laval - ECPv5.14.0.4//NONSGML v1.0//EN
CALSCALE:GREGORIAN
METHOD:PUBLISH
X-WR-CALNAME:Secteur Deux-Rivières-de-Laval
X-ORIGINAL-URL:https://deuxriviereslaval.areq.lacsq.org
X-WR-CALDESC:évènements pour Secteur Deux-Rivières-de-Laval
BEGIN:VTIMEZONE
TZID:America/New_York
BEGIN:DAYLIGHT
TZOFFSETFROM:-0500
TZOFFSETTO:-0400
TZNAME:EDT
DTSTART:20210314T070000
END:DAYLIGHT
BEGIN:STANDARD
TZOFFSETFROM:-0400
TZOFFSETTO:-0500
TZNAME:EST
DTSTART:20211107T060000
END:STANDARD
END:VTIMEZONE
BEGIN:VEVENT
DTSTART;TZID=America/New_York:20211119T090000
DTEND;TZID=America/New_York:20211119T150000
DTSTAMP:20260424T070358
CREATED:20211104T173254Z
LAST-MODIFIED:20211104T173254Z
UID:1481-1637312400-1637334000@deuxriviereslaval.areq.lacsq.org
SUMMARY:Rencontre interactive pour la Journée internationale des hommes
DESCRIPTION:RENCONTRE INTERACTIVE ORGANISÉE PAR LE COMITÉ RÉGIONAL DES HOMMES  \nOFFERTE AUX HOMMES ET AUX FEMMES DE LA RÉGION LLL \n VENDREDI 19 NOVEMBRE 2021 pour souligner la Journée internationale des hommes. \n  \nBrève description de l’activité axée sur le thème Rêver encore \n\nEn avant-midi : Panel animé par quatre hommes de la région Laval-Laurentides-Lanaudière\nEn après-midi :Nous sommes toutes et tous concernés par la violence envers les femmes.\n\n  \nPrécisions sur la rencontre interactive \n\nL’avant-midi donnera lieu à un panel animé par quatre hommes de la région des Laurentides.\n\nü  Quelle est la vie à la retraite selon moi ? (Émile Huchette\, secteur 10 J – Laval-Nord) \nü  Quel est l’impact de pandémie sur moi ? (Michel Legault\, secteur 10 B – Chomedey-Laval) \nü  Quelles perspectives d’avenir puis-je avoir ? (François Tanguay\, secteur 10 C – Rivière-du-Nord) \nü  Puis-je encore rêver d’une vie équilibrée ? (Gilles Bégin\, secteur 10 C – Rivière-du-Nord) \n\nL’après-midi permettra des échanges à partir de deux productions sur la violence envers les femmes.\n\nü  Le communiqué intitulé Tous concernés par la violence faite aux femmes et les féminicides et signé par Marcel Leroux\, trésorier et responsable politique du comité national des hommes. \nü  La lettre d’amour aux ti-gars de David Gaudreaut. \n  \nModalités d’inscription avant le 12 novembre 2021 (inscriptions gérées par chaque secteur)  \n\nQUAND :de 9 h à 15 h\, à Gethsé-Marie\, 1301\, rue des Lacs (secteur Bellefeuille)\, Saint-Jérôme\, QC. \n\nNote : Autoroute 15 en direction sud\, sortie pour rejoindre boulevard La Salette Ouest. \nNote : Autoroute 15 en direction nord\, sortie route 117\, puis boulevard La Salette Ouest. \nNote : Le Centre est situé à 5 km de la lumière à la jonction du boulevard La Salette et la rue des Lacs. \n\nFrais d’inscription de 10 $ remboursable lorsque la personne est présente le 19 novembre 2021. \nDîner offert sur place\, à Gethsé-Marie\, au coût de 25 $ au frais de l’AREQ régionale pour les responsables et les substituts et de chacun des secteurs concernés pour les membres qui participeront.\n\n  \nPour plus d’information\, contacter Paul Lévesque le responsable du comité des Hommes du secteur à l’adresse courriel \necolomobile49@videotron.ca  OU Téléphone : 450-663-1085  \n  \n  \n\n\n\nFORMULAIRE D’INSCRIPTION À LA RENCONTRE INTERACTIVE \nDU 19 NOVEMBRE 2021 À GETHSÉ-MARIE  \nNom : ____________________ Prénom : ____________________ Secteur :10Deux-Rivières-de-Laval \nTéléphone : _______________ Courriel : ________________________________________________ \nMon choix de menu : suprême de poulet ___ OU bœuf bourguignon ___ \nDate limite : 12 novembre 2021.  Ci-joint\, un chèque au montant de 10$ Frais d’inscription \nLibellé au nom du secteur : AREQ   10D  Date : 19 novembre 2021  \nSignature : _________________________________ Date : ______________________
URL:https://deuxriviereslaval.areq.lacsq.org/event/rencontre-interactive-pour-la-journee-internationale-des-hommes/
LOCATION:Gethsé-Marie\, 1301\, rue des Lacs (secteur Bellefeuille)\, Saint-Jérôme\, Québec\, Canada
END:VEVENT
END:VCALENDAR