BEGIN:VCALENDAR
VERSION:2.0
PRODID:-//Secteur Deux-Rivières-de-Laval - ECPv5.14.0.4//NONSGML v1.0//EN
CALSCALE:GREGORIAN
METHOD:PUBLISH
X-WR-CALNAME:Secteur Deux-Rivières-de-Laval
X-ORIGINAL-URL:https://deuxriviereslaval.areq.lacsq.org
X-WR-CALDESC:évènements pour Secteur Deux-Rivières-de-Laval
BEGIN:VTIMEZONE
TZID:America/New_York
BEGIN:DAYLIGHT
TZOFFSETFROM:-0500
TZOFFSETTO:-0400
TZNAME:EDT
DTSTART:20230312T070000
END:DAYLIGHT
BEGIN:STANDARD
TZOFFSETFROM:-0400
TZOFFSETTO:-0500
TZNAME:EST
DTSTART:20231105T060000
END:STANDARD
END:VTIMEZONE
BEGIN:VEVENT
DTSTART;TZID=America/New_York:20230308T140000
DTEND;TZID=America/New_York:20230308T163000
DTSTAMP:20260424T052734
CREATED:20230224T155052Z
LAST-MODIFIED:20230224T155052Z
UID:1755-1678284000-1678293000@deuxriviereslaval.areq.lacsq.org
SUMMARY:Rencontre interactive organisée par le comité sectoriel des femmes
DESCRIPTION:Nous vous invitons à vous joindre à nous le mercredi 8 mars de 14h à 16h30 dans une ambiance conviviale autour d’un café et de petites gâteries au Local : 010. \nPavillon du Boisé Papineau 3235 boul. Saint-Martin Est\, Laval \nLa Journée internationale des droits des femmes continue d’être un moment privilégié pour échanger et mettre en lumière la diversité des réalités et des besoins des femmes. \nNotre invitée Marie-Ève Surprenant\, coordonnatrice de la Table de concertation de Laval en condition féminine et autrice du Manuel de résistance féministe attirera notre attention sur les mécanismes de reproduction des inégalités dans nos sociétés et sur les gestes à poser pour favoriser une véritable transformation sociale\, pour un monde plus juste\, égalitaire et solidaire. \nInscription à l’activité sur notre boîte vocale au 450 936-1028 \nComité des femmes Pauline Lauzière & Ginette Beauséjour
URL:https://deuxriviereslaval.areq.lacsq.org/event/rencontre-interactive-organisee-par-le-comite-sectoriel-des-femmes/
LOCATION:Bois Papineau\, 3235 boul. St-Martin\, Laval
END:VEVENT
END:VCALENDAR