BEGIN:VCALENDAR
VERSION:2.0
PRODID:-//Secteur Deux-Rivières-de-Laval - ECPv5.14.0.4//NONSGML v1.0//EN
CALSCALE:GREGORIAN
METHOD:PUBLISH
X-WR-CALNAME:Secteur Deux-Rivières-de-Laval
X-ORIGINAL-URL:https://deuxriviereslaval.areq.lacsq.org
X-WR-CALDESC:évènements pour Secteur Deux-Rivières-de-Laval
BEGIN:VTIMEZONE
TZID:America/New_York
BEGIN:DAYLIGHT
TZOFFSETFROM:-0500
TZOFFSETTO:-0400
TZNAME:EDT
DTSTART:20250309T070000
END:DAYLIGHT
BEGIN:STANDARD
TZOFFSETFROM:-0400
TZOFFSETTO:-0500
TZNAME:EST
DTSTART:20251102T060000
END:STANDARD
END:VTIMEZONE
BEGIN:VEVENT
DTSTART;TZID=America/New_York:20250605T100000
DTEND;TZID=America/New_York:20250605T150000
DTSTAMP:20260423T201633
CREATED:20250506T182711Z
LAST-MODIFIED:20250506T182711Z
UID:2099-1749117600-1749135600@deuxriviereslaval.areq.lacsq.org
SUMMARY:Journée mondiale de l'environnement!
DESCRIPTION:Célébrons ensemble la Journée mondiale de l’environnement! \nPlongeons dans la culture autochtone avec Le Musée ambulant. \nLe 5 juin\, de 10 h à 15 h\, au Musée Zénon-Alary\, Sainte-Adèle \n1425 Rue Claude Grégoire\, Sainte-Adèle\, QC J8B 1E9 \n  \nEn avant-midi\, nous explorerons d’abord le concept d’économie circulaire par opposition à l’économie linéaire qui domine encore fortement nos échanges commerciaux. Nous poursuivrons avec un quiz musical concocté à partir de chansons produites par des artistes d’origine autochtone. Ce quiz se fera en équipe avec rires et entrain. Des prix seront remis à l’équipe gagnante. \n  \nEn après-midi nous découvrirons des œuvres d’art autochtone avec l’équipe du Musée ambulant\, un petit musée d’art nomade qui sillonne les routes du pays. Nous pourrons toucher et commenter ces œuvres au gré de nos impressions. Finalement\, nous pourrons nous en inspirer pour créer à notre tour! Aucune connaissance des arts n’est requise. Que de la curiosité et l’enthousiasme d’explorer ce que l’art peut amener dans la réflexion sur notre rapport à la nature et au monde qui nous entoure (matériel fourni). \n  \nC’est une occasion à saisir! \nUn rendez-vous à ne pas manquer! \n  \nCoût de l’activité payable à l’entrée\, en argent comptant\, virement Interac ou chèque à AREQ10E \n·       Pour les membres de L’AREQ\, secteur 10E : 20 $ \n·       Pour les membres de L’AREQ des autres secteurs : 30 $ \n·       Pour les personnes non-membres de l’AREQ : 50 $ (coût réel de l’activité) \n  \nSVP\, s’inscrire en ligne (idéal)\, par courriel ou par téléphone \nauprès de Carole Marcoux\, responsable de l’événement : 514 978-9171. \nAu plaisir de vous retrouver à cette journée consacrée à l’environnement. \nClaire Desjardins \n438-869-0117 \nComité de l’environnement
URL:https://deuxriviereslaval.areq.lacsq.org/event/journee-mondiale-de-lenvironnement/
LOCATION:Musée Zénon-Alary\, 1425 Rue Claude Grégoire\, Sainte-Adèle\, Qué\, J8B 1E9\, Canada
END:VEVENT
END:VCALENDAR