BEGIN:VCALENDAR
VERSION:2.0
PRODID:-//Secteur Deux-Rivières-de-Laval - ECPv5.14.0.4//NONSGML v1.0//EN
CALSCALE:GREGORIAN
METHOD:PUBLISH
X-WR-CALNAME:Secteur Deux-Rivières-de-Laval
X-ORIGINAL-URL:https://deuxriviereslaval.areq.lacsq.org
X-WR-CALDESC:évènements pour Secteur Deux-Rivières-de-Laval
BEGIN:VTIMEZONE
TZID:America/New_York
BEGIN:DAYLIGHT
TZOFFSETFROM:-0500
TZOFFSETTO:-0400
TZNAME:EDT
DTSTART:20190310T070000
END:DAYLIGHT
BEGIN:STANDARD
TZOFFSETFROM:-0400
TZOFFSETTO:-0500
TZNAME:EST
DTSTART:20191103T060000
END:STANDARD
END:VTIMEZONE
BEGIN:VEVENT
DTSTART;VALUE=DATE:20191119
DTEND;VALUE=DATE:20191120
DTSTAMP:20260424T085742
CREATED:20190824T195312Z
LAST-MODIFIED:20191107T004158Z
UID:823-1574121600-1574207999@deuxriviereslaval.areq.lacsq.org
SUMMARY:Journée des hommes
DESCRIPTION:À l’occasion de la journée internationale des hommes\,\nil y aura une conférence  » Reconnaître et partager nos valeurs « \nle 19 novembre de 9 h 30 à 15 h au Days Inn\, 1136 boul. Curé Labelle.\nLes frais d’inscriptions sont de 10 $ et seront remboursés par le secteur.\nLe dîner sur place est de 23 $ et ne sera pas remboursé par le secteur.\nSVP faire  » 2  » chèques ( 1 de 10$ et un autre de 23$ ) daté du 19 novembre\nlibellé à AREQ 10 D et poster à\nDaniel Thouin\n637 de la Louvière\nLaval H7M 5C1\n\nMerci de votre collaboration\,
URL:https://deuxriviereslaval.areq.lacsq.org/event/journee-des-hommes/
LOCATION:Days Inn de Blainville\, 1136 boul. Labelle\, Ste-Thérèse\, Québec\, J7C 3J4\, Canada
END:VEVENT
END:VCALENDAR