BEGIN:VCALENDAR
VERSION:2.0
PRODID:-//Secteur Deux-Rivières-de-Laval - ECPv5.14.0.4//NONSGML v1.0//EN
CALSCALE:GREGORIAN
METHOD:PUBLISH
X-WR-CALNAME:Secteur Deux-Rivières-de-Laval
X-ORIGINAL-URL:https://deuxriviereslaval.areq.lacsq.org
X-WR-CALDESC:évènements pour Secteur Deux-Rivières-de-Laval
BEGIN:VTIMEZONE
TZID:America/New_York
BEGIN:DAYLIGHT
TZOFFSETFROM:-0500
TZOFFSETTO:-0400
TZNAME:EDT
DTSTART:20190310T070000
END:DAYLIGHT
BEGIN:STANDARD
TZOFFSETFROM:-0400
TZOFFSETTO:-0500
TZNAME:EST
DTSTART:20191103T060000
END:STANDARD
END:VTIMEZONE
BEGIN:VEVENT
DTSTART;TZID=America/New_York:20190620T120000
DTEND;TZID=America/New_York:20190620T120000
DTSTAMP:20260424T085702
CREATED:20190613T015624Z
LAST-MODIFIED:20190613T015624Z
UID:790-1561032000-1561032000@deuxriviereslaval.areq.lacsq.org
SUMMARY:Dîner sur la Terrasse
DESCRIPTION:Il nous fait plaisir de vous inviter à un dîner sur la terrasse le 20 juin à midi.\nCe sera une belle occasion de terminer l’année.\nRendez vous au Grizzly\n1421 Chemin Gascon\nTerrebonne.\nPour s’y rendre\, vous prenez l’autoroute 25 et sortez à Chemin Gascon ou Moody\net tournez à droite et filez vers le nord\, pour un demi-kilomètre\, selon Google.\nS’inscrire sur la boîte vocale : 450 824-1483\nAu plaisir de vous y rencontrer.\nLe conseil sectoriel
URL:https://deuxriviereslaval.areq.lacsq.org/event/diner-sur-la-terrasse/
LOCATION:Resto Grizzly\, 1421\, Chemin Gascon\, Terrebonne
END:VEVENT
END:VCALENDAR