BEGIN:VCALENDAR
VERSION:2.0
PRODID:-//Secteur Deux-Rivières-de-Laval - ECPv5.14.0.4//NONSGML v1.0//EN
CALSCALE:GREGORIAN
METHOD:PUBLISH
X-WR-CALNAME:Secteur Deux-Rivières-de-Laval
X-ORIGINAL-URL:https://deuxriviereslaval.areq.lacsq.org
X-WR-CALDESC:évènements pour Secteur Deux-Rivières-de-Laval
BEGIN:VTIMEZONE
TZID:America/New_York
BEGIN:DAYLIGHT
TZOFFSETFROM:-0500
TZOFFSETTO:-0400
TZNAME:EDT
DTSTART:20190310T070000
END:DAYLIGHT
BEGIN:STANDARD
TZOFFSETFROM:-0400
TZOFFSETTO:-0500
TZNAME:EST
DTSTART:20191103T060000
END:STANDARD
END:VTIMEZONE
BEGIN:VEVENT
DTSTART;TZID=America/New_York:20190321T120000
DTEND;TZID=America/New_York:20190321T120000
DTSTAMP:20260424T104434
CREATED:20181115T135508Z
LAST-MODIFIED:20190213T194327Z
UID:340-1553169600-1553169600@deuxriviereslaval.areq.lacsq.org
SUMMARY:Dîner des bénévoles
DESCRIPTION:Nos bénévoles seront invités. \nAu restaurant Le Biniou \n100 Boulevard de la Concorde Est \nLaval\, QC H7G 2B9
URL:https://deuxriviereslaval.areq.lacsq.org/event/diner-des-benevoles/
LOCATION:Restaurant Le Biniou\, 100 Boulevard de la Concorde Est\, Laval\, Québec\, H7G 2B9\, Canada
END:VEVENT
END:VCALENDAR