BEGIN:VCALENDAR
VERSION:2.0
PRODID:-//Secteur Deux-Rivières-de-Laval - ECPv5.14.0.4//NONSGML v1.0//EN
CALSCALE:GREGORIAN
METHOD:PUBLISH
X-WR-CALNAME:Secteur Deux-Rivières-de-Laval
X-ORIGINAL-URL:https://deuxriviereslaval.areq.lacsq.org
X-WR-CALDESC:évènements pour Secteur Deux-Rivières-de-Laval
BEGIN:VTIMEZONE
TZID:America/New_York
BEGIN:DAYLIGHT
TZOFFSETFROM:-0500
TZOFFSETTO:-0400
TZNAME:EDT
DTSTART:20250309T070000
END:DAYLIGHT
BEGIN:STANDARD
TZOFFSETFROM:-0400
TZOFFSETTO:-0500
TZNAME:EST
DTSTART:20251102T060000
END:STANDARD
END:VTIMEZONE
BEGIN:VEVENT
DTSTART;TZID=America/New_York:20250410T113000
DTEND;TZID=America/New_York:20250410T143000
DTSTAMP:20260423T235055
CREATED:20250122T153914Z
LAST-MODIFIED:20250122T153914Z
UID:2057-1744284600-1744295400@deuxriviereslaval.areq.lacsq.org
SUMMARY:Dîner des Bénévoles du secteur sur invitation
DESCRIPTION:Dîner des Bénévoles du secteur sur invitation – 11 h 30 \nRestaurant Portovino\, 1160 boul. Le Corbusier\, Laval H7N 6J5
URL:https://deuxriviereslaval.areq.lacsq.org/event/diner-des-benevoles-du-secteur-sur-invitation/
LOCATION:Restaurant Portovino\, 1160 boul. Le Corbusier\, Laval\, Qué\, H7N 6J5\, Canada
END:VEVENT
END:VCALENDAR