BEGIN:VCALENDAR
VERSION:2.0
PRODID:-//Secteur Deux-Rivières-de-Laval - ECPv5.14.0.4//NONSGML v1.0//EN
CALSCALE:GREGORIAN
METHOD:PUBLISH
X-WR-CALNAME:Secteur Deux-Rivières-de-Laval
X-ORIGINAL-URL:https://deuxriviereslaval.areq.lacsq.org
X-WR-CALDESC:évènements pour Secteur Deux-Rivières-de-Laval
BEGIN:VTIMEZONE
TZID:America/New_York
BEGIN:DAYLIGHT
TZOFFSETFROM:-0500
TZOFFSETTO:-0400
TZNAME:EDT
DTSTART:20180311T070000
END:DAYLIGHT
BEGIN:STANDARD
TZOFFSETFROM:-0400
TZOFFSETTO:-0500
TZNAME:EST
DTSTART:20181104T060000
END:STANDARD
END:VTIMEZONE
BEGIN:VEVENT
DTSTART;TZID=America/New_York:20181207T120000
DTEND;TZID=America/New_York:20181207T120000
DTSTAMP:20260424T104406
CREATED:20180922T182026Z
LAST-MODIFIED:20181122T152953Z
UID:66-1544184000-1544184000@deuxriviereslaval.areq.lacsq.org
SUMMARY:Dîner de Noël
DESCRIPTION:Au Sheraton \n2440\, autoroute des Laurentides\, \nLaval \n  \nPour réservation:  Boîte vocale 450 824-1483
URL:https://deuxriviereslaval.areq.lacsq.org/event/diner-de-noel/
LOCATION:Sheraton Laval\, 2440 Autoroute des Laurentides\, Laval
END:VEVENT
END:VCALENDAR