BEGIN:VCALENDAR
VERSION:2.0
PRODID:-//Secteur Deux-Rivières-de-Laval - ECPv5.14.0.4//NONSGML v1.0//EN
CALSCALE:GREGORIAN
METHOD:PUBLISH
X-WR-CALNAME:Secteur Deux-Rivières-de-Laval
X-ORIGINAL-URL:https://deuxriviereslaval.areq.lacsq.org
X-WR-CALDESC:évènements pour Secteur Deux-Rivières-de-Laval
BEGIN:VTIMEZONE
TZID:America/New_York
BEGIN:DAYLIGHT
TZOFFSETFROM:-0500
TZOFFSETTO:-0400
TZNAME:EDT
DTSTART:20240310T070000
END:DAYLIGHT
BEGIN:STANDARD
TZOFFSETFROM:-0400
TZOFFSETTO:-0500
TZNAME:EST
DTSTART:20241103T060000
END:STANDARD
END:VTIMEZONE
BEGIN:VEVENT
DTSTART;TZID=America/New_York:20241212T113000
DTEND;TZID=America/New_York:20241212T150000
DTSTAMP:20260423T234730
CREATED:20240711T171331Z
LAST-MODIFIED:20240711T171331Z
UID:2014-1734003000-1734015600@deuxriviereslaval.areq.lacsq.org
SUMMARY:Dîner de Noël
DESCRIPTION:Dîner de Noël \nSheraton \n2440 A. des Laurentides\, Laval\, Qué
URL:https://deuxriviereslaval.areq.lacsq.org/event/diner-de-noel-6/
LOCATION:Sheraton Laval\, 2440 Autoroute des Laurentides\, Laval
END:VEVENT
END:VCALENDAR