BEGIN:VCALENDAR
VERSION:2.0
PRODID:-//Secteur Deux-Rivières-de-Laval - ECPv5.14.0.4//NONSGML v1.0//EN
CALSCALE:GREGORIAN
METHOD:PUBLISH
X-WR-CALNAME:Secteur Deux-Rivières-de-Laval
X-ORIGINAL-URL:https://deuxriviereslaval.areq.lacsq.org
X-WR-CALDESC:évènements pour Secteur Deux-Rivières-de-Laval
BEGIN:VTIMEZONE
TZID:America/New_York
BEGIN:DAYLIGHT
TZOFFSETFROM:-0500
TZOFFSETTO:-0400
TZNAME:EDT
DTSTART:20200308T070000
END:DAYLIGHT
BEGIN:STANDARD
TZOFFSETFROM:-0400
TZOFFSETTO:-0500
TZNAME:EST
DTSTART:20201101T060000
END:STANDARD
END:VTIMEZONE
BEGIN:VEVENT
DTSTART;TZID=America/New_York:20200214T120000
DTEND;TZID=America/New_York:20200214T120000
DTSTAMP:20260424T083729
CREATED:20191122T180520Z
LAST-MODIFIED:20200117T143120Z
UID:901-1581681600-1581681600@deuxriviereslaval.areq.lacsq.org
SUMMARY:Dîner de la St-Valentin
DESCRIPTION:Il me fait plaisir de vous inviter au dîner de la St-Valentin le 14 février à midi.\nNous serons attendus à la Casa Grecque\,\n350 boul. St-Martin Ouest\, au coin de la rue Bois-de-Boulogne à Laval.\nNous aurons un menu complet pour 25$ + taxes.\nChoix de 4 plats principaux; vous pourrez apporter votre vin.\nNous serons logés dans une salle privée munie de grandes fenêtres.\nNotez que ce dîner remplace l’activité qui était prévue dans le dernier Deux-Rivières.\nSvp\, faire le message aux membres qui ne sont pas branchés.\n\nRéservez votre place sur la boîte vocale : 450 824-1483\nLorraine Trudeau\, présidente\n 
URL:https://deuxriviereslaval.areq.lacsq.org/event/diner-de-la-st-valentin-2/
LOCATION:Casa Grecque\, 350 boul St-Martin Ouest\, Laval\, Québec\, Canada
END:VEVENT
END:VCALENDAR