BEGIN:VCALENDAR
VERSION:2.0
PRODID:-//Secteur Deux-Rivières-de-Laval - ECPv5.14.0.4//NONSGML v1.0//EN
CALSCALE:GREGORIAN
METHOD:PUBLISH
X-WR-CALNAME:Secteur Deux-Rivières-de-Laval
X-ORIGINAL-URL:https://deuxriviereslaval.areq.lacsq.org
X-WR-CALDESC:évènements pour Secteur Deux-Rivières-de-Laval
BEGIN:VTIMEZONE
TZID:America/New_York
BEGIN:DAYLIGHT
TZOFFSETFROM:-0500
TZOFFSETTO:-0400
TZNAME:EDT
DTSTART:20250309T070000
END:DAYLIGHT
BEGIN:STANDARD
TZOFFSETFROM:-0400
TZOFFSETTO:-0500
TZNAME:EST
DTSTART:20251102T060000
END:STANDARD
END:VTIMEZONE
BEGIN:VEVENT
DTSTART;TZID=America/New_York:20250603T113000
DTEND;TZID=America/New_York:20250603T143000
DTSTAMP:20260423T220509
CREATED:20250122T155613Z
LAST-MODIFIED:20250507T130142Z
UID:2071-1748950200-1748961000@deuxriviereslaval.areq.lacsq.org
SUMMARY:Dîner de fin d'année pour tous les membres du secteur
DESCRIPTION:Dîner de fin d’année pour tous les membres de notre secteur – 11 h 30 \nRestaurant Buon Gusto 2495 boul. Saint-Martin est\, Laval H7E 4X6
URL:https://deuxriviereslaval.areq.lacsq.org/event/diner-de-fin-dannee-pour-tous-les-membres-du-secteur/
LOCATION:Restaurant Buon Gusto\, 2495\, boul. Saint-Martin est\, Laval\, Qué\, H7E 4X6\, Canada
END:VEVENT
END:VCALENDAR