BEGIN:VCALENDAR
VERSION:2.0
PRODID:-//Secteur Deux-Rivières-de-Laval - ECPv5.14.0.4//NONSGML v1.0//EN
CALSCALE:GREGORIAN
METHOD:PUBLISH
X-WR-CALNAME:Secteur Deux-Rivières-de-Laval
X-ORIGINAL-URL:https://deuxriviereslaval.areq.lacsq.org
X-WR-CALDESC:évènements pour Secteur Deux-Rivières-de-Laval
BEGIN:VTIMEZONE
TZID:America/New_York
BEGIN:DAYLIGHT
TZOFFSETFROM:-0500
TZOFFSETTO:-0400
TZNAME:EDT
DTSTART:20180311T070000
END:DAYLIGHT
BEGIN:STANDARD
TZOFFSETFROM:-0400
TZOFFSETTO:-0500
TZNAME:EST
DTSTART:20181104T060000
END:STANDARD
END:VTIMEZONE
BEGIN:VEVENT
DTSTART;TZID=America/New_York:20180913T093000
DTEND;TZID=America/New_York:20180913T093000
DTSTAMP:20260424T120550
CREATED:20180922T180308Z
LAST-MODIFIED:20180922T181436Z
UID:56-1536831000-1536831000@deuxriviereslaval.areq.lacsq.org
SUMMARY:Déjeuner d'accueil
DESCRIPTION:
URL:https://deuxriviereslaval.areq.lacsq.org/event/dejeuner-daccueil/
LOCATION:Tutti Frutti\, 2975 boul. de la Concorde est
END:VEVENT
END:VCALENDAR