BEGIN:VCALENDAR
VERSION:2.0
PRODID:-//Secteur Deux-Rivières-de-Laval - ECPv5.14.0.4//NONSGML v1.0//EN
CALSCALE:GREGORIAN
METHOD:PUBLISH
X-WR-CALNAME:Secteur Deux-Rivières-de-Laval
X-ORIGINAL-URL:https://deuxriviereslaval.areq.lacsq.org
X-WR-CALDESC:évènements pour Secteur Deux-Rivières-de-Laval
BEGIN:VTIMEZONE
TZID:America/New_York
BEGIN:DAYLIGHT
TZOFFSETFROM:-0500
TZOFFSETTO:-0400
TZNAME:EDT
DTSTART:20240310T070000
END:DAYLIGHT
BEGIN:STANDARD
TZOFFSETFROM:-0400
TZOFFSETTO:-0500
TZNAME:EST
DTSTART:20241103T060000
END:STANDARD
END:VTIMEZONE
BEGIN:VEVENT
DTSTART;TZID=America/New_York:20240912T113000
DTEND;TZID=America/New_York:20240912T143000
DTSTAMP:20260424T014054
CREATED:20240711T165939Z
LAST-MODIFIED:20240711T171038Z
UID:2002-1726140600-1726151400@deuxriviereslaval.areq.lacsq.org
SUMMARY:Déjeuner d'accueil Ben et Florentine
DESCRIPTION:Déjeuner d’accueil Ben et Florentine \n2817\, av. des Aristocrates\, local 104\, Laval\, Qc \nH7E 5J3 \n(près de chez Adonis)
URL:https://deuxriviereslaval.areq.lacsq.org/event/dejeuner-daccueil-ben-et-florentine/
LOCATION:Ben et Florentine\, 2817\, av. des Aristocrates\, local 104\, Laval\, Québec\, H7E 5J3\, Canada
END:VEVENT
END:VCALENDAR