BEGIN:VCALENDAR
VERSION:2.0
PRODID:-//Secteur Deux-Rivières-de-Laval - ECPv5.14.0.4//NONSGML v1.0//EN
CALSCALE:GREGORIAN
METHOD:PUBLISH
X-WR-CALNAME:Secteur Deux-Rivières-de-Laval
X-ORIGINAL-URL:https://deuxriviereslaval.areq.lacsq.org
X-WR-CALDESC:évènements pour Secteur Deux-Rivières-de-Laval
BEGIN:VTIMEZONE
TZID:America/New_York
BEGIN:DAYLIGHT
TZOFFSETFROM:-0500
TZOFFSETTO:-0400
TZNAME:EDT
DTSTART:20230312T070000
END:DAYLIGHT
BEGIN:STANDARD
TZOFFSETFROM:-0400
TZOFFSETTO:-0500
TZNAME:EST
DTSTART:20231105T060000
END:STANDARD
END:VTIMEZONE
BEGIN:VEVENT
DTSTART;TZID=America/New_York:20230907T093000
DTEND;TZID=America/New_York:20230907T110000
DTSTAMP:20260424T031108
CREATED:20230719T180022Z
LAST-MODIFIED:20230826T172231Z
UID:1814-1694079000-1694084400@deuxriviereslaval.areq.lacsq.org
SUMMARY:Déjeuner d'accueil
DESCRIPTION:Bonjour chers membres\, \nUne nouvelle année de rencontres et de projets s’amorce dans notre secteur 10D Deux-Rivières-de -Laval.  \nC’est avec plaisir que les membres du Conseil Sectoriel et moi vous invitons à notre déjeuner d’accueil pour 9 h 30 \nC’est un rendez-vous le 7 septembre 2023 au restaurant  \nTutti Frutti au 2975 boul.de la Concorde Est Laval \nNous espérons vous accueillir et faire votre connaissance. Vous y rencontrerez des personnes joviales\, engagées et dynamiques.  \nEspérant vous rencontrer \nMarie-Paule Hade\,  présidente
URL:https://deuxriviereslaval.areq.lacsq.org/event/dejeuner-daccueil-4/
LOCATION:Tutti Frutti\, 2975 boul. de la Concorde est
END:VEVENT
END:VCALENDAR