BEGIN:VCALENDAR
VERSION:2.0
PRODID:-//Secteur Deux-Rivières-de-Laval - ECPv5.14.0.4//NONSGML v1.0//EN
CALSCALE:GREGORIAN
METHOD:PUBLISH
X-WR-CALNAME:Secteur Deux-Rivières-de-Laval
X-ORIGINAL-URL:https://deuxriviereslaval.areq.lacsq.org
X-WR-CALDESC:évènements pour Secteur Deux-Rivières-de-Laval
BEGIN:VTIMEZONE
TZID:America/New_York
BEGIN:DAYLIGHT
TZOFFSETFROM:-0500
TZOFFSETTO:-0400
TZNAME:EDT
DTSTART:20240310T070000
END:DAYLIGHT
BEGIN:STANDARD
TZOFFSETFROM:-0400
TZOFFSETTO:-0500
TZNAME:EST
DTSTART:20241103T060000
END:STANDARD
END:VTIMEZONE
BEGIN:VEVENT
DTSTART;TZID=America/New_York:20240507T090000
DTEND;TZID=America/New_York:20240507T150000
DTSTAMP:20260424T013235
CREATED:20240117T161724Z
LAST-MODIFIED:20240117T162037Z
UID:1911-1715072400-1715094000@deuxriviereslaval.areq.lacsq.org
SUMMARY:Convocation AGS
DESCRIPTION:AVIS DE CONVOCATION \nDate : Le mardi 7 mai 2024\nLieu : Centre de congrès Palace\, 1717\, boul.Le Corbusier\, Laval Accueil : 9 h 00\nDébut de la rencontre : 9 h 30 \nProjet d’ordre du jour : \n\nAccueil et mot de bienvenue\nVérification du quorum et ouverture de l’assemblée\nMot de la présidente régionale\, madame Pierrette Boudreau\nNomination à la présidence d’assemblée\nPrésentation des artistes exposants\nLecture et adoption de l’ordre du jour\nLecture et adoption du procès-verbal de l’AGS du 27 avril 2023\nSuivi du procès-verbal\nRapport de la présidente sectorielle\nPrésentation et réception des états financiers 2022-2023\n\n\n\n\n\n\n\n\n\nPause\, visite des œuvres de nos artistes et vote pour le coup de coeur \n\na) Rapport des responsables des comitésb) Confirmation des responsables dans leur poste respectif\nDévoilement des gagnants de l’exposition\nAssemblée générale régionale du 22 mai 2024 à l’Hôtel Best Western au 420\, boul.Mgr. Dubois\, Saint-Jérôme\, J7Y 3L 8\nQuestions diverses a)b)\nc)\nLevée de l’assemblée\nDîner sur place après l’assemblée\n\nMarie-Paule Hade\, Présidente \nS.V.P. confirmez votre présence sur la boîte vocale au : 450-936-1028 au plus tard le 30 avril 2024
URL:https://deuxriviereslaval.areq.lacsq.org/event/convocation-ags/
LOCATION:Centre de congrès Palace\, 1717\, boul. Le Corbusier\, Laval\, Québec\, Canada
END:VEVENT
END:VCALENDAR