BEGIN:VCALENDAR
VERSION:2.0
PRODID:-//Secteur Deux-Rivières-de-Laval - ECPv5.14.0.4//NONSGML v1.0//EN
CALSCALE:GREGORIAN
METHOD:PUBLISH
X-WR-CALNAME:Secteur Deux-Rivières-de-Laval
X-ORIGINAL-URL:https://deuxriviereslaval.areq.lacsq.org
X-WR-CALDESC:évènements pour Secteur Deux-Rivières-de-Laval
BEGIN:VTIMEZONE
TZID:America/New_York
BEGIN:DAYLIGHT
TZOFFSETFROM:-0500
TZOFFSETTO:-0400
TZNAME:EDT
DTSTART:20250309T070000
END:DAYLIGHT
BEGIN:STANDARD
TZOFFSETFROM:-0400
TZOFFSETTO:-0500
TZNAME:EST
DTSTART:20251102T060000
END:STANDARD
END:VTIMEZONE
BEGIN:VEVENT
DTSTART;TZID=America/New_York:20250415T093000
DTEND;TZID=America/New_York:20250415T150000
DTSTAMP:20260423T235055
CREATED:20250122T154148Z
LAST-MODIFIED:20250122T154148Z
UID:2060-1744709400-1744729200@deuxriviereslaval.areq.lacsq.org
SUMMARY:Conférences sur le régime d'assurance ASSUREQ et l'intelligence artificielle (IA)
DESCRIPTION:Hôtel Best Western de Saint-Jérôme\, 420\, Mgr Dubois\, Saint-Jérôme (Qué) J7Y 3L8 \nEn avant-midi\, de 9 h 30 à 12 h : \nSujet : notre régime s’assurance ASSUREQ \nLes explications des augmentations depuis janvier 2025 et autres informations pertinentes sur notre régime BENEVA \nConférence donnée par madame Johanne Freire\, conseillère à l’AREQ nationale \nEn après-midi\, de 13 h à 15 h \nSujet : L’intelligence artificielle (IA) \nCette conférence a pour but de nous informer des conséquences positives ou négativesde l’utilisation de l’outil appelé Intelligence artificielle dans notre quotidien. \nConférence donnée par monsieur Samuel Labrecque conseiller à l’AREQ nationale \n(comité assurance et sociopolitique)
URL:https://deuxriviereslaval.areq.lacsq.org/event/conferences-sur-le-regime-dassurance-assureq-et-lintelligence-artificielle-ia/
LOCATION:Hôtel Best Western\, 420\, boul. Mgr Dubois\, Saint-Jérôme\, Québec\, J7Y 3L8\, Canada
END:VEVENT
END:VCALENDAR