BEGIN:VCALENDAR
VERSION:2.0
PRODID:-//Secteur Deux-Rivières-de-Laval - ECPv5.14.0.4//NONSGML v1.0//EN
CALSCALE:GREGORIAN
METHOD:PUBLISH
X-WR-CALNAME:Secteur Deux-Rivières-de-Laval
X-ORIGINAL-URL:https://deuxriviereslaval.areq.lacsq.org
X-WR-CALDESC:évènements pour Secteur Deux-Rivières-de-Laval
BEGIN:VTIMEZONE
TZID:America/New_York
BEGIN:DAYLIGHT
TZOFFSETFROM:-0500
TZOFFSETTO:-0400
TZNAME:EDT
DTSTART:20250309T070000
END:DAYLIGHT
BEGIN:STANDARD
TZOFFSETFROM:-0400
TZOFFSETTO:-0500
TZNAME:EST
DTSTART:20251102T060000
END:STANDARD
END:VTIMEZONE
BEGIN:VEVENT
DTSTART;TZID=America/New_York:20250929T093000
DTEND;TZID=America/New_York:20250929T143000
DTSTAMP:20260423T164520
CREATED:20250904T150747Z
LAST-MODIFIED:20250904T150747Z
UID:2123-1759138200-1759156200@deuxriviereslaval.areq.lacsq.org
SUMMARY:Conférences régionales
DESCRIPTION:CONFÉRENCES RÉGIONALES ORGANISÉES PAR \nLe comité régional de l’Action sociopolitique \nQUAND : lundi le 29 septembre 2025 \nOù : Hôtel Best Western\, 420\, Mgr Dubois\, Saint-Jérôme \nHeure : 9 h 00   pour les inscriptions \nAM : 9 h 30  à 11 h : Conférence de Me Hélène Guay suivie d’une période de            questions  \nMe Guay abordera les sujets suivants : le soutien à domicile\, les droits en RPA et en   CHSLD. Elle produira aussi un document pour suivre sa présentation. \nDINER : 11 h 45  à 12 h  45 – buffet avec potage chaud \nPM : 13 h à 14 h 30 :  conférence sur la santé auditive \nMonsieur Jonathan Gagnon-Bagheri\, audioprothésiste exerçant au sein de la clinique Lobe de Saint-Jérôme\, animera cette conférence pour aborder les différents aspects d’une perte auditive et présenter les solutions disponibles pour les personnes malentendantes.  \nVotre inscription est obligatoire avant le 19 septembre 2025  \n»✂———————————————————————————————————————————————- \nComité de l’Action sociopolitique du 29 septembre 2025 \nNom : ____________________________________Prénom :______________________________________ \nTéléphone : _____________________________Courriel : _______________________________________ \n\nFrais d’inscription : 10 $ (non remboursable) Je viendrai en AM □ et/ou   je resterai  en PM □\nJe réserve ma place pour le diner : 27 $     Oui   □ / Non □                    \n\nCi-joint un chèque de 10 $ (inscription seulement) ou de 37 $ (si vous ajoutez le diner)  \nLibellez votre chèque au nom de AREQ 10 D_et postez-le avec ce coupon à Daniel Thouin 637\,de la Louvière\, Laval\, H7M 5C1  ou courriel  d.thouin@sympatico.ca  et téléphone 450-662-2496
URL:https://deuxriviereslaval.areq.lacsq.org/event/conferences-regionales/
LOCATION:Hôtel Best Western\, 420\, boul. Mgr Dubois\, Saint-Jérôme\, Québec\, J7Y 3L8\, Canada
END:VEVENT
END:VCALENDAR