BEGIN:VCALENDAR
VERSION:2.0
PRODID:-//Secteur Deux-Rivières-de-Laval - ECPv5.14.0.4//NONSGML v1.0//EN
CALSCALE:GREGORIAN
METHOD:PUBLISH
X-WR-CALNAME:Secteur Deux-Rivières-de-Laval
X-ORIGINAL-URL:https://deuxriviereslaval.areq.lacsq.org
X-WR-CALDESC:évènements pour Secteur Deux-Rivières-de-Laval
BEGIN:VTIMEZONE
TZID:America/New_York
BEGIN:DAYLIGHT
TZOFFSETFROM:-0500
TZOFFSETTO:-0400
TZNAME:EDT
DTSTART:20240310T070000
END:DAYLIGHT
BEGIN:STANDARD
TZOFFSETFROM:-0400
TZOFFSETTO:-0500
TZNAME:EST
DTSTART:20241103T060000
END:STANDARD
END:VTIMEZONE
BEGIN:VEVENT
DTSTART;TZID=America/New_York:20240416T093000
DTEND;TZID=America/New_York:20240416T150000
DTSTAMP:20260424T014058
CREATED:20240117T144731Z
LAST-MODIFIED:20240117T164850Z
UID:1897-1713259800-1713279600@deuxriviereslaval.areq.lacsq.org
SUMMARY:Conférences régionales\, comité des Assurances et Action sociopolitique
DESCRIPTION:Conférences régionales organisées par le comité des Assurances et le comité\nde l’Action sociopolitique. Hôtel Best Western de Saint-Jérôme\, 420\, Mgr Dubois\, Saint-Jérôme (QC.) J7Y 3L8 \nEn avant-midi\, de 9 h 30 à 12 h : Sujet : notre régime d’assurance BENEVA \nLes changements dont il faut être informé. \nConférence donnée par madame Johanne Freire\, conseillère à l’AREQ nationale \n\n\n\n\n\n\nEn après-midi\, de 13 h à 15 h : Sujet : Les soins à domicile et les procédures de placement  \nCette conférence a pour but d’informer les membres sur les mesures du ministère de la Santé pour les soins à domicile et les procédures de placement de personnes non-autonomes \nConférence donnée par monsieur Samuel Labrecque\, conseiller à l’AREQ nationale \nDîner sur place (buffet froid et soupe chaude) pour les personnes intéressées. \nPour informations supplémentaires\, contactez :\nClaude Marineau Comité des assurances – Marineau63@gmail.com\nMarie-Paule Hade\, présidente Comité Sociopolitique – Areq10d-pres@outlook.com \nPour assister à ces conférences\, téléchargez et remplissez le formulaire d’inscription suivant avant le 1er avril 2024 :  \nASS- CASP 16 AVRIL 2024
URL:https://deuxriviereslaval.areq.lacsq.org/event/conferences-regionales-comite-des-assurances-et-action-sociopolitique/
LOCATION:Hôtel Best Western\, 420\, boul. Mgr Dubois\, Saint-Jérôme\, Québec\, J7Y 3L8\, Canada
END:VEVENT
END:VCALENDAR