BEGIN:VCALENDAR
VERSION:2.0
PRODID:-//Secteur Deux-Rivières-de-Laval - ECPv5.14.0.4//NONSGML v1.0//EN
CALSCALE:GREGORIAN
METHOD:PUBLISH
X-WR-CALNAME:Secteur Deux-Rivières-de-Laval
X-ORIGINAL-URL:https://deuxriviereslaval.areq.lacsq.org
X-WR-CALDESC:évènements pour Secteur Deux-Rivières-de-Laval
BEGIN:VTIMEZONE
TZID:America/New_York
BEGIN:DAYLIGHT
TZOFFSETFROM:-0500
TZOFFSETTO:-0400
TZNAME:EDT
DTSTART:20180311T070000
END:DAYLIGHT
BEGIN:STANDARD
TZOFFSETFROM:-0400
TZOFFSETTO:-0500
TZNAME:EST
DTSTART:20181104T060000
END:STANDARD
END:VTIMEZONE
BEGIN:VEVENT
DTSTART;TZID=America/New_York:20181116T130000
DTEND;TZID=America/New_York:20181116T130000
DTSTAMP:20260424T104540
CREATED:20180922T181738Z
LAST-MODIFIED:20181110T162703Z
UID:63-1542373200-1542373200@deuxriviereslaval.areq.lacsq.org
SUMMARY:Conférence sur la santé
DESCRIPTION:La conférence portera sur la perte d’autonomie et les ressources disponibles.  C’est Mme Ginette Plamondon\, ressource de l’AREQ qui nous présentera ce sujet du domaine de la santé. \nC’est gratuit.
URL:https://deuxriviereslaval.areq.lacsq.org/event/conference-sur-la-sante/
LOCATION:Bois Papineau\, 3235 boul. St-Martin\, Laval
END:VEVENT
END:VCALENDAR