BEGIN:VCALENDAR
VERSION:2.0
PRODID:-//Secteur Deux-Rivières-de-Laval - ECPv5.14.0.4//NONSGML v1.0//EN
CALSCALE:GREGORIAN
METHOD:PUBLISH
X-WR-CALNAME:Secteur Deux-Rivières-de-Laval
X-ORIGINAL-URL:https://deuxriviereslaval.areq.lacsq.org
X-WR-CALDESC:évènements pour Secteur Deux-Rivières-de-Laval
BEGIN:VTIMEZONE
TZID:America/New_York
BEGIN:DAYLIGHT
TZOFFSETFROM:-0500
TZOFFSETTO:-0400
TZNAME:EDT
DTSTART:20190310T070000
END:DAYLIGHT
BEGIN:STANDARD
TZOFFSETFROM:-0400
TZOFFSETTO:-0500
TZNAME:EST
DTSTART:20191103T060000
END:STANDARD
END:VTIMEZONE
BEGIN:VEVENT
DTSTART;TZID=America/New_York:20191114T130000
DTEND;TZID=America/New_York:20191114T130000
DTSTAMP:20260424T085753
CREATED:20190824T195223Z
LAST-MODIFIED:20191107T004405Z
UID:821-1573736400-1573736400@deuxriviereslaval.areq.lacsq.org
SUMMARY:Conférence sur la santé mentale
DESCRIPTION:SVP vous inscrire pour la conférence  sur la santé mentale\ndu 14 novembre à 13 h\nau Bois Papineau sur la boîte vocale :450 824-1483.\nPlaces limitées. GRATUIT.
URL:https://deuxriviereslaval.areq.lacsq.org/event/conference-sur-la-sante-mentale/
LOCATION:Bois Papineau\, 3235 boul. St-Martin\, Laval
END:VEVENT
END:VCALENDAR