BEGIN:VCALENDAR
VERSION:2.0
PRODID:-//Secteur Deux-Rivières-de-Laval - ECPv5.14.0.4//NONSGML v1.0//EN
CALSCALE:GREGORIAN
METHOD:PUBLISH
X-WR-CALNAME:Secteur Deux-Rivières-de-Laval
X-ORIGINAL-URL:https://deuxriviereslaval.areq.lacsq.org
X-WR-CALDESC:évènements pour Secteur Deux-Rivières-de-Laval
BEGIN:VTIMEZONE
TZID:America/New_York
BEGIN:DAYLIGHT
TZOFFSETFROM:-0500
TZOFFSETTO:-0400
TZNAME:EDT
DTSTART:20260308T070000
END:DAYLIGHT
BEGIN:STANDARD
TZOFFSETFROM:-0400
TZOFFSETTO:-0500
TZNAME:EST
DTSTART:20261101T060000
END:STANDARD
END:VTIMEZONE
BEGIN:VEVENT
DTSTART;TZID=America/New_York:20260324T093000
DTEND;TZID=America/New_York:20260324T143000
DTSTAMP:20260420T202323
CREATED:20260214T145946Z
LAST-MODIFIED:20260214T152133Z
UID:2340-1774344600-1774362600@deuxriviereslaval.areq.lacsq.org
SUMMARY:Conférence régionale organisée par le conseil régional et le comité de l'environnement
DESCRIPTION:Date : le mardi 24 mars 2026 \nLieu : Hôtel Best Western de Saint-Jérôme\, 420\, Mgr Dubois\, Saint-Jérôme (Qué) J7Y 3L8 \nHORAIRE \nAM : de 9 h 30 à 12 h : Planification\, protection et transfert de patrimoine \nSujet abordé : Testament\, liquidateur\, imposition\, mandat de protection\, bilan successoral\, stratégies\, \ncréation de richesse\, don planifié\, protection. Invités présents : \n• Notaire : Me Caroline Béland \n• Conseiller en gestion de patrimoine et planificateur financier : Sylvain Gravel \n• Conseiller en sécurité financière : François Nicole \nPM : de 13 h à 14 h 30 : Cinq (5) concepts mobilisateurs pour l’action climatique \nPar Paul Germain\, maire de la ville de Prévost \nEn environnement\, c’est contribuer à être un agent de changement pour favoriser la lutte aux changements \nclimatiques en proposant des actions concrètes et des projets de développement durable. Redonner un \ncœur à une ville\, c’est donner aux citoyens le goût de participer à cet effort d’environnemental collectif. \nDINER SUR PLACE (buffet froid et soupe chaude) pour les personnes qui le désirent. \nPour assister à la rencontre en AM ou /et en PM\, découpez et remplissez le formulaire d’inscription dans le bulletin sectoriel à la page 8 avant le 18 mars 2026 : \nNote : Vous pouvez faire des virements Interac maintenant au secteur. Suivez les instructions . \nCoupon-réponse à découper\, sinon appelez pour vous inscrire si vous faites un virement Interac \nCI-joint un chèque de 10 $ (si conférence seulement) ou de 37 $ (si conférence et diner) \nlibellé au nom de AREQ 10D et envoyer à Daniel Thouin\, 637\, de La Louvière\, Laval\, H7M 5C1\, \n450-662-2496\, d.thouin@sympatico.ca
URL:https://deuxriviereslaval.areq.lacsq.org/event/conference-regionale-organisee-par-le-conseil-regional-et-le-comite-de-lenvironnement/
LOCATION:Hôtel Best Western\, 420\, boul. Mgr Dubois\, Saint-Jérôme\, Québec\, J7Y 3L8\, Canada
END:VEVENT
END:VCALENDAR