BEGIN:VCALENDAR
VERSION:2.0
PRODID:-//Secteur Deux-Rivières-de-Laval - ECPv5.14.0.4//NONSGML v1.0//EN
CALSCALE:GREGORIAN
METHOD:PUBLISH
X-WR-CALNAME:Secteur Deux-Rivières-de-Laval
X-ORIGINAL-URL:https://deuxriviereslaval.areq.lacsq.org
X-WR-CALDESC:évènements pour Secteur Deux-Rivières-de-Laval
BEGIN:VTIMEZONE
TZID:America/New_York
BEGIN:DAYLIGHT
TZOFFSETFROM:-0500
TZOFFSETTO:-0400
TZNAME:EDT
DTSTART:20250309T070000
END:DAYLIGHT
BEGIN:STANDARD
TZOFFSETFROM:-0400
TZOFFSETTO:-0500
TZNAME:EST
DTSTART:20251102T060000
END:STANDARD
END:VTIMEZONE
BEGIN:VEVENT
DTSTART;TZID=America/New_York:20251022T090000
DTEND;TZID=America/New_York:20251022T141500
DTSTAMP:20260423T100359
CREATED:20251007T144749Z
LAST-MODIFIED:20251007T145011Z
UID:2173-1761123600-1761142500@deuxriviereslaval.areq.lacsq.org
SUMMARY:Conférence organisée par le comité régional de la retraite et le conseil régional
DESCRIPTION:QUAND : mercredi 22 octobre 2025 \nOù : Hôtel Best Western\, 420\, Mgr Dubois\, Saint-Jérôme \nHeure : 9 h 00   pour les inscriptions \nAM : 9 h 30  à 12 h  : Conférence de monsieur François L’Italien suivi d’une période de questions  \nCette conférence sera l’occasion de revenir sur le fondement de l’autonomie financière des personnes retraitées au Québec : les régimes de retraite. Nous aborderons cela à travers des questions importantes : quels choix avons-nous fait lorsqu’ils ont été créés ? Que sont-ils devenus ? Pourquoi avoir indexé certains de ces régimes ? Quels ont été les reculs et les batailles sur ce front ?  \nPlus nous en connaissons sur nos régimes de retraite\, plus nous serons en mesure de les promouvoir et de mieux les défendre. Bien agir nécessite de bien connaître. L’AREQ ainsi que l’Observatoire de la retraite sont tous deux présents pour faciliter cela. \nMême s’il n’y a aucun coût pour la conférence\, je vous assure que « vous en aurez pour votre argent ». C’est un événement à ne pas manquer ! \nDINER : 12 h 15  à 13 h   – buffet avec potage chaud \nPM : 13 h 15 à 14 h 15 :  Présentation des fonctionnalités de notre iphone et ipad \nMonsieur Marcel St-Germain présentation toutes les fonctionnalités – connues et ignorées – de nos iphones et ipads. Comment transférer rapidement nos photos sur un ordinateur\, le nuage (cloud) ; surtout il répondra a nos interrogations quand nous cherchons dans nos appareils. Il y a sûrement des fonctions qu’on ignore… \nNote : pour les appareils android\, il peut répondre\, mais  l’écran de l’appareil ne sera pas affiché sur le grand écran en avant.  \nVotre inscription est obligatoire avant le 15 octobre 2025  \n»✂———————————————————————————————————————————————- \nComité de la retraite et présentation pour les iphones et ipads du 22 octobre 2025 \nNom : ____________________________________Prénom :______________________________________ \nTéléphone : _____________________________Courriel : _______________________________________ \n\nFrais d’inscription : 10 $ (non remboursable) Je viendrai en AM □ et/ou   je resterai  en PM □\nJe réserve ma place pour le diner : 27 $     Oui   □ / Non □                    \n\nCi-joint un chèque de 10 $ (inscription seulement) ou de 37 $ (si vous ajoutez le diner) ; 50 $ pour les non-membres.  \nLibellez votre chèque au nom AREQ 10D___________ et postez-le avec ce coupon réponse à Daniel Thouin\,637\,de la Louvière\, Laval\, H7M 5C51___ téléphone __450-662-2496  d.thouin@sympatico.ca \nNote : Si le conflit postal persiste vous pourrez payer sur place et vous inscrire sur la boîte vocale au 450-936-1028
URL:https://deuxriviereslaval.areq.lacsq.org/event/conference-organisee-par-le-comite-regional-de-la-retraite-et-le-conseil-regionalquand-mercredi-22-octobre-2025-ou-hotel-best-western-420-mgr-dubois-saint-jerome-heure-9-h/
LOCATION:Hôtel Best Western\, 420\, boul. Mgr Dubois\, Saint-Jérôme\, Québec\, J7Y 3L8\, Canada
END:VEVENT
END:VCALENDAR