BEGIN:VCALENDAR
VERSION:2.0
PRODID:-//Secteur Deux-Rivières-de-Laval - ECPv5.14.0.4//NONSGML v1.0//EN
CALSCALE:GREGORIAN
METHOD:PUBLISH
X-WR-CALNAME:Secteur Deux-Rivières-de-Laval
X-ORIGINAL-URL:https://deuxriviereslaval.areq.lacsq.org
X-WR-CALDESC:évènements pour Secteur Deux-Rivières-de-Laval
BEGIN:VTIMEZONE
TZID:America/New_York
BEGIN:DAYLIGHT
TZOFFSETFROM:-0500
TZOFFSETTO:-0400
TZNAME:EDT
DTSTART:20250309T070000
END:DAYLIGHT
BEGIN:STANDARD
TZOFFSETFROM:-0400
TZOFFSETTO:-0500
TZNAME:EST
DTSTART:20251102T060000
END:STANDARD
END:VTIMEZONE
BEGIN:VEVENT
DTSTART;TZID=America/New_York:20250305T133000
DTEND;TZID=America/New_York:20250305T153000
DTSTAMP:20260423T234757
CREATED:20250122T152745Z
LAST-MODIFIED:20250122T152745Z
UID:2049-1741181400-1741188600@deuxriviereslaval.areq.lacsq.org
SUMMARY:Conférence intersectorielle 10D et 10B
DESCRIPTION:Madame Patricia Collin\, détentrice d’un baccalauréat en animation et recherche culturelle sera notre invitée. Sa conférence se déroulera dans une optique de saine santé mentale prônant le mieux-être pour tous par l’art et les loisirs. \nElle nous partagera également son expérience d’animatrice d’ateliers auprès de personnes vulnérables\, ayant des troubles anxieux ou ayant subi de la violence conjugale. Ces ateliers combinent des rencontres de groupe d’échange et de partage et la pratique du dessin Mandala. \nRéservez votre place avant le 28 février sur la boîte vocale 450-936-1028 en précisant bien que votre \ninscription est pour l’activité gratuite du 5 mars\, nous vous y accueillerons avec plaisir. \nGinette Beauséjour
URL:https://deuxriviereslaval.areq.lacsq.org/event/conference-intersectorielle-10d-et-10b/
LOCATION:Grande salle communautaire Saint-Joseph\, 1450\, boul. Pie-X\, Laval\, Québec\, H7V 3C1\, Canada
END:VEVENT
END:VCALENDAR