BEGIN:VCALENDAR
VERSION:2.0
PRODID:-//Secteur Deux-Rivières-de-Laval - ECPv5.14.0.4//NONSGML v1.0//EN
CALSCALE:GREGORIAN
METHOD:PUBLISH
X-WR-CALNAME:Secteur Deux-Rivières-de-Laval
X-ORIGINAL-URL:https://deuxriviereslaval.areq.lacsq.org
X-WR-CALDESC:évènements pour Secteur Deux-Rivières-de-Laval
BEGIN:VTIMEZONE
TZID:America/New_York
BEGIN:DAYLIGHT
TZOFFSETFROM:-0500
TZOFFSETTO:-0400
TZNAME:EDT
DTSTART:20190310T070000
END:DAYLIGHT
BEGIN:STANDARD
TZOFFSETFROM:-0400
TZOFFSETTO:-0500
TZNAME:EST
DTSTART:20191103T060000
END:STANDARD
END:VTIMEZONE
BEGIN:VEVENT
DTSTART;TZID=America/New_York:20190429T090000
DTEND;TZID=America/New_York:20190429T090000
DTSTAMP:20260424T104434
CREATED:20181115T135631Z
LAST-MODIFIED:20190220T201122Z
UID:342-1556528400-1556528400@deuxriviereslaval.areq.lacsq.org
SUMMARY:Assemblée générale sectorielle
DESCRIPTION:au Palace \n1717 Le Corbusier \nLaval \nL’accueil se fera à partir de 9h et le début de l’assemblée sera à 9h30.
URL:https://deuxriviereslaval.areq.lacsq.org/event/assemblee-generale-sectorielle/
END:VEVENT
END:VCALENDAR