BEGIN:VCALENDAR
VERSION:2.0
PRODID:-//Secteur Deux-Rivières-de-Laval - ECPv5.14.0.4//NONSGML v1.0//EN
CALSCALE:GREGORIAN
METHOD:PUBLISH
X-WR-CALNAME:Secteur Deux-Rivières-de-Laval
X-ORIGINAL-URL:https://deuxriviereslaval.areq.lacsq.org
X-WR-CALDESC:évènements pour Secteur Deux-Rivières-de-Laval
BEGIN:VTIMEZONE
TZID:America/New_York
BEGIN:DAYLIGHT
TZOFFSETFROM:-0500
TZOFFSETTO:-0400
TZNAME:EDT
DTSTART:20250309T070000
END:DAYLIGHT
BEGIN:STANDARD
TZOFFSETFROM:-0400
TZOFFSETTO:-0500
TZNAME:EST
DTSTART:20251102T060000
END:STANDARD
END:VTIMEZONE
BEGIN:VEVENT
DTSTART;TZID=America/New_York:20250506T090000
DTEND;TZID=America/New_York:20250506T120000
DTSTAMP:20260423T220122
CREATED:20250122T155105Z
LAST-MODIFIED:20250122T155105Z
UID:2067-1746522000-1746532800@deuxriviereslaval.areq.lacsq.org
SUMMARY:Assemblée Générale Sectorielle
DESCRIPTION:VOUS ÊTES CORDIALEMENT INVITÉS À PARTICIPER À L’ASSEMBLÉE GÉNÉRALE SECTORIELLE DU SECTEUR 10D DEUX-RIVIÈRES-DE-LAVAL \nDate : Le 6 mai 2025 \nLieu : Centre de congrès Palace\, 1717\, boul. Le Corbusier\, Laval \nAccueil : 9h Début de la rencontre : 9h30 \nProjet d’ordre du jour : \n1. Accueil et mot de bienvenue \n2. Vérification du quorum et ouverture de l’assemblée \n3. Mot de la présidente régionale\, madame Pierrette Boudreau \n4. Nomination à la présidence d’assemblée \n5. Nomination d’un président d’élection \n6. Rappel des postes en élection et remise des candidatures \n1ière vice-Présidence\, trésorerie et 1ier conseiller \n7. Lecture et adoption de l’ordre du jour \n8. Lecture et adoption du procès-verbal de l’AGS du 7 mai 2024 \n9. Suivi du procès-verbal \n10. Rapport de la présidente sectorielle \n11. Présentation et réception du bilan financier 2024-2025. \nPause \n12. a) Rapport des responsables des comités \nb) Confirmation des responsables dans leur poste respectif \n13. Élections \n14. Choix des délégués et substituts au congrès de juin 2026 \n15. Assemblée Générale Régionale du 21 mai 2025 à l’Hôtel Best Western au 420\, boul. Mgr-Dubois\, \nSaint-Jérôme J7Y 3L 8 \nS.V.P. confirmez votre présence sur la boîte vocale au : 450-936-1028 au plus tard le 29 avril 2025 \nDîner sur place \n16. Questions diverses \na) \nb) \nc) \n17. Levée de l’assemblée \nMarie-Paule Hade\, Présidente
URL:https://deuxriviereslaval.areq.lacsq.org/event/assemblee-generale-sectorielle-3/
LOCATION:Centre de congrès Palace\, 1717\, boul. Le Corbusier\, Laval\, Québec\, Canada
END:VEVENT
END:VCALENDAR