BEGIN:VCALENDAR
VERSION:2.0
PRODID:-//Secteur Deux-Rivières-de-Laval - ECPv5.14.0.4//NONSGML v1.0//EN
CALSCALE:GREGORIAN
METHOD:PUBLISH
X-WR-CALNAME:Secteur Deux-Rivières-de-Laval
X-ORIGINAL-URL:https://deuxriviereslaval.areq.lacsq.org
X-WR-CALDESC:évènements pour Secteur Deux-Rivières-de-Laval
BEGIN:VTIMEZONE
TZID:America/New_York
BEGIN:DAYLIGHT
TZOFFSETFROM:-0500
TZOFFSETTO:-0400
TZNAME:EDT
DTSTART:20220313T070000
END:DAYLIGHT
BEGIN:STANDARD
TZOFFSETFROM:-0400
TZOFFSETTO:-0500
TZNAME:EST
DTSTART:20221106T060000
END:STANDARD
END:VTIMEZONE
BEGIN:VEVENT
DTSTART;TZID=America/New_York:20220511T090000
DTEND;TZID=America/New_York:20220511T120000
DTSTAMP:20260424T070129
CREATED:20220203T152547Z
LAST-MODIFIED:20220331T142852Z
UID:1513-1652259600-1652270400@deuxriviereslaval.areq.lacsq.org
SUMMARY:Assemblée générale sectorielle
DESCRIPTION:Convocation à L’AGS du secteur 10D Deux-Rivières de Laval et Expo Art \nDate : 11 mai 2022 \nEndroit : Centre de congrès Le Palace\, 1717 Boulevard le Corbusier\, Laval \nAccueil : 9 h 00 avec l’occasion d’apprécier les oeuvres de nos artistes \nDébut de la rencontre : 9 h 30 \nProjet d’ordre du jour : voir à la page 8 du Le Deux-Rivières Hiver 2022 \nSVP confirmez votre présence sur la boîte vocale au 450 936-1028 au plus tard le 27 avril 2022.
URL:https://deuxriviereslaval.areq.lacsq.org/event/assemblee-generale-sectorielle-2/
LOCATION:Le Palace\, 1717\, Le Corbusier\, Laval\, Québec\, Canada
END:VEVENT
END:VCALENDAR