BEGIN:VCALENDAR
VERSION:2.0
PRODID:-//Secteur Deux-Rivières-de-Laval - ECPv5.14.0.4//NONSGML v1.0//EN
CALSCALE:GREGORIAN
METHOD:PUBLISH
X-WR-CALNAME:Secteur Deux-Rivières-de-Laval
X-ORIGINAL-URL:https://deuxriviereslaval.areq.lacsq.org
X-WR-CALDESC:évènements pour Secteur Deux-Rivières-de-Laval
BEGIN:VTIMEZONE
TZID:America/New_York
BEGIN:DAYLIGHT
TZOFFSETFROM:-0500
TZOFFSETTO:-0400
TZNAME:EDT
DTSTART:20230312T070000
END:DAYLIGHT
BEGIN:STANDARD
TZOFFSETFROM:-0400
TZOFFSETTO:-0500
TZNAME:EST
DTSTART:20231105T060000
END:STANDARD
END:VTIMEZONE
BEGIN:VEVENT
DTSTART;TZID=America/New_York:20230511T093000
DTEND;TZID=America/New_York:20230511T140000
DTSTAMP:20260424T033153
CREATED:20230120T203641Z
LAST-MODIFIED:20230120T203641Z
UID:1737-1683797400-1683813600@deuxriviereslaval.areq.lacsq.org
SUMMARY:Assemblée Générale Régionale (AGR) Laval-Laurentides-Lanaudière
DESCRIPTION:Le jeudi 11 mai 2023 \nde 9 h 30 à 14 h \nau Best Western\, 420\, Mgr Dubois\, Saint-Jérôme\, J7Y 3L8 \n\n\n\n\nIL Y AURA AUSSI UNE EXPOSITION DES ŒUVRES D’ART ET MÉTIERS D’ART DANS LA SALLE. \n\n\n\n\nNote : l’assemblée générale de la FLG aura lieu immédiatement après la levée de l’assemblée régionale. \n\n\n\n\nPour participer à l’AGR\, s.v.p. confirmez votre présence avant jeudi le 27 avril 2023 auprès de Daniel Thouin_soit par téléphone 450-662-2496 ou par courriel d.thouin@sympatico.ca. Un chèque de dépôt de 25$ doit être fait et il vous sera remis à votre arrivée. Toutefois\, il n’y aura pas de remboursement si vous êtes absent. \nLibellez votre chèque à AREQ 10D et postez-le à : Daniel Thouin 637 De la Louvière\, Laval QC\, H7M 5C1 \nN.B. : Pour assister au dîner\, vous devez avoir participé à l’AGR en matinée. Pierrette Boudreau\, présidente régionale LLL
URL:https://deuxriviereslaval.areq.lacsq.org/event/assemblee-generale-regionale-agr-laval-laurentides-lanaudiere/
LOCATION:Hôtel Best Western\, 420\, boul. Mgr Dubois\, Saint-Jérôme\, Québec\, J7Y 3L8\, Canada
END:VEVENT
END:VCALENDAR