BEGIN:VCALENDAR
VERSION:2.0
PRODID:-//Secteur Deux-Rivières-de-Laval - ECPv5.14.0.4//NONSGML v1.0//EN
CALSCALE:GREGORIAN
METHOD:PUBLISH
X-WR-CALNAME:Secteur Deux-Rivières-de-Laval
X-ORIGINAL-URL:https://deuxriviereslaval.areq.lacsq.org
X-WR-CALDESC:évènements pour Secteur Deux-Rivières-de-Laval
BEGIN:VTIMEZONE
TZID:America/New_York
BEGIN:DAYLIGHT
TZOFFSETFROM:-0500
TZOFFSETTO:-0400
TZNAME:EDT
DTSTART:20260308T070000
END:DAYLIGHT
BEGIN:STANDARD
TZOFFSETFROM:-0400
TZOFFSETTO:-0500
TZNAME:EST
DTSTART:20261101T060000
END:STANDARD
END:VTIMEZONE
BEGIN:VEVENT
DTSTART;TZID=America/New_York:20260505T093000
DTEND;TZID=America/New_York:20260505T140000
DTSTAMP:20260420T161857
CREATED:20260214T150736Z
LAST-MODIFIED:20260214T150736Z
UID:2346-1777973400-1777989600@deuxriviereslaval.areq.lacsq.org
SUMMARY:Assemblée Générale Régionale
DESCRIPTION:AVIS DE CONVOCATION \nComme stipulé dans les Statuts et règlements d’octobre 2023\, article 14.03\, par la présente\, vous êtes \ncordialement invités à participer à l’assemblée générale régionale de la région LLL. \nDate : Le mardi 5 mai 2026 \nHeure : de 9 h 30 à 14 h 00 (inscription à partir de 9 h 00) \nLieu : Hôtel Best Western\, 420\, Mgr Dubois\, Saint-Jérôme\, J7Y 3L8 \nProjet d’ordre du jour : \nNomination de la présidente d’assemblée \nPrésentation de l’ordre du jour \nProcès-verbal de l’AGR du 21 mai 2025 \nRapport du conseil régional et de la présidente régionale \nRapport financier au 30 juin 2025 et rapport financier partiel au 30 avril 2026 \n6. Rapport des comités régionaux \nPrésentation des nouvelles présidences sectorielles 2026-2029 \nConfirmation de la délégation au Congrès \nÉlection à la présidence régionale \na. Présentation du comité d’élection \n10. Tirages de prix de présence \nLe diner aura lieu sur place vers 12 h et la vente de billets pour le tirage de la FLG se fera pendant le diner. \nNote : L’assemblée générale de la FLG aura lieu après l’AGR\, soit vers 14 h 30. \n1. 2. 3. 4. 5. 7. 8. 9. POUR VOUS INSCRIRE À L’AGR \nPour participer à l’AGR\, s.v.p. confirmez votre présence avant vendredi le 23 avril 2026 auprès de (nom \nde la personne qui recevra la réservation) soit par téléphone (son téléphone) ou par courriel (son courriel). \nUn chèque de dépôt de 25$ doit être fait et il vous sera remis à votre arrivée. Toutefois\, il n’y aura pas de \nremboursement si vous êtes absent. \nLibellez votre chèque à (nom du secteur) et postez-le à (adresse de la personne qui reçoit les \ninscriptions). Dépôt direct à l’institution financière pour les secteurs qui offrent ce service. \nPierrette Boudreau\, présidente régionale LLL
URL:https://deuxriviereslaval.areq.lacsq.org/event/assemblee-generale-regionale-3/
LOCATION:Hôtel Best Western\, 420\, boul. Mgr Dubois\, Saint-Jérôme\, Québec\, J7Y 3L8\, Canada
END:VEVENT
END:VCALENDAR