BEGIN:VCALENDAR
VERSION:2.0
PRODID:-//Secteur Deux-Rivières-de-Laval - ECPv5.14.0.4//NONSGML v1.0//EN
CALSCALE:GREGORIAN
METHOD:PUBLISH
X-WR-CALNAME:Secteur Deux-Rivières-de-Laval
X-ORIGINAL-URL:https://deuxriviereslaval.areq.lacsq.org
X-WR-CALDESC:évènements pour Secteur Deux-Rivières-de-Laval
BEGIN:VTIMEZONE
TZID:America/New_York
BEGIN:DAYLIGHT
TZOFFSETFROM:-0500
TZOFFSETTO:-0400
TZNAME:EDT
DTSTART:20250309T070000
END:DAYLIGHT
BEGIN:STANDARD
TZOFFSETFROM:-0400
TZOFFSETTO:-0500
TZNAME:EST
DTSTART:20251102T060000
END:STANDARD
END:VTIMEZONE
BEGIN:VEVENT
DTSTART;TZID=America/New_York:20250521T093000
DTEND;TZID=America/New_York:20250521T140000
DTSTAMP:20260423T220122
CREATED:20250122T155258Z
LAST-MODIFIED:20250122T155258Z
UID:2069-1747819800-1747836000@deuxriviereslaval.areq.lacsq.org
SUMMARY:Assemblée Générale Régionale
DESCRIPTION:ASSEMBLÉE GÉNÉRALE RÉGIONALE (AGR) LAVAL-LAURENTIDES-LANAUDIÈRE \nAVIS DE CONVOCATION \nComme stipulé dans les Statuts et règlements d’octobre 2023\, article 14.03\, par la présente\, vous êtes \ncordialement invités à participer à l’assemblée générale régionale de la région LLL. \nDate : Le mercredi 21 mai 2025 \nHeure : de 9 h 30 à 14 h 00 \nLieu : Hôtel Best Western\, 420\, boul. Mgr- Dubois\, Saint-Jérôme J7Y 3L8 \nProjet d’ordre du jour : \n1. Présentation de l’ordre du jour \n2. Procès-verbal de l’AGR du 22 mai 2024 \n3. Rapport du conseil régional et de la présidence régionale \n4. Rapport financier au 30 juin 2024 et rapport financier partiel au 30 avril 2025 \n5. Rapport des comités régionaux \n6. Dîner \n7. Présentation des prix Coup de cœur de l’exposition des œuvres d’art et des livres présentés \nDes tirages auront lieu parmi les personnes présentes à la fin de la rencontre. \nNote : l’assemblée générale de la FLG aura lieu après l’AGR\, soit vers 14 h 30. \nPOUR VOUS INSCRIRE À L’AGR \nPour participer à l’AGR\, s.v.p. confirmez votre présence avant vendredi le 2 mai 2025 de (nom de la \npersonne qui recevra la réservation) soit par téléphone (son téléphone) ou par courriel (son courriel). Un \nchèque de dépôt de 25$ doit être fait et il vous sera remis à votre arrivée. Toutefois\, il n’y aura pas de \nremboursement si vous êtes absent. \nLibellez votre chèque à AREQ 10 D et postez-le à : Daniel Thouin 637\, De La Louvière Laval H7M 5C1. \nN.B. : Pour assister au dîner\, vous devez avoir participé à l’AGR en matinée. \nPierrette Boudreau\, présidente régionale LLL
URL:https://deuxriviereslaval.areq.lacsq.org/event/assemblee-generale-regionale-2/
LOCATION:Hôtel Best Western\, 420\, boul. Mgr Dubois\, Saint-Jérôme\, Québec\, J7Y 3L8\, Canada
END:VEVENT
END:VCALENDAR