BEGIN:VCALENDAR
VERSION:2.0
PRODID:-//Secteur Deux-Rivières-de-Laval - ECPv5.14.0.4//NONSGML v1.0//EN
CALSCALE:GREGORIAN
METHOD:PUBLISH
X-WR-CALNAME:Secteur Deux-Rivières-de-Laval
X-ORIGINAL-URL:https://deuxriviereslaval.areq.lacsq.org
X-WR-CALDESC:évènements pour Secteur Deux-Rivières-de-Laval
BEGIN:VTIMEZONE
TZID:America/New_York
BEGIN:DAYLIGHT
TZOFFSETFROM:-0500
TZOFFSETTO:-0400
TZNAME:EDT
DTSTART:20250309T070000
END:DAYLIGHT
BEGIN:STANDARD
TZOFFSETFROM:-0400
TZOFFSETTO:-0500
TZNAME:EST
DTSTART:20251102T060000
END:STANDARD
END:VTIMEZONE
BEGIN:VEVENT
DTSTART;TZID=America/New_York:20250317T093000
DTEND;TZID=America/New_York:20250317T153000
DTSTAMP:20260423T235055
CREATED:20250122T153054Z
LAST-MODIFIED:20250122T155716Z
UID:2051-1742203800-1742225400@deuxriviereslaval.areq.lacsq.org
SUMMARY:Activité régionale (violence sexuelle et prévention de la fraude AFPF)
DESCRIPTION:Hôtel Best Western de Saint-Jérôme\, 420\, Mgr Dubois\, Saint-Jérôme (Qué) J7Y 3L8 \n9 h 30 Conférence Mme. Estelle Caron. \nLe sujet touchera la prévention\, le soutien et les conséquences de la violence sexuelle. \n13 h Académie de Formation de prévention de la fraude AFPF. Le comité de l’Action sociopolitique se réunira et animera une plénière pour les personnes qui désirent demeurer pour faire un échange sur les sujets qui auront été présentés en AM par la conférencière. \n(Comité régional des femmes)
URL:https://deuxriviereslaval.areq.lacsq.org/event/activite-regionale-violence-sexuelle-et-prevention-de-la-fraude-afpf/
LOCATION:Hôtel Best Western\, 420\, boul. Mgr Dubois\, Saint-Jérôme\, Québec\, J7Y 3L8\, Canada
END:VEVENT
END:VCALENDAR