BEGIN:VCALENDAR
VERSION:2.0
PRODID:-//Secteur Deux-Rivières-de-Laval - ECPv5.14.0.4//NONSGML v1.0//EN
CALSCALE:GREGORIAN
METHOD:PUBLISH
X-WR-CALNAME:Secteur Deux-Rivières-de-Laval
X-ORIGINAL-URL:https://deuxriviereslaval.areq.lacsq.org
X-WR-CALDESC:évènements pour Secteur Deux-Rivières-de-Laval
BEGIN:VTIMEZONE
TZID:America/New_York
BEGIN:DAYLIGHT
TZOFFSETFROM:-0500
TZOFFSETTO:-0400
TZNAME:EDT
DTSTART:20250309T070000
END:DAYLIGHT
BEGIN:STANDARD
TZOFFSETFROM:-0400
TZOFFSETTO:-0500
TZNAME:EST
DTSTART:20251102T060000
END:STANDARD
END:VTIMEZONE
BEGIN:VEVENT
DTSTART;TZID=America/New_York:20250331T093000
DTEND;TZID=America/New_York:20250331T153000
DTSTAMP:20260423T235055
CREATED:20250122T153259Z
LAST-MODIFIED:20250122T153259Z
UID:2053-1743413400-1743435000@deuxriviereslaval.areq.lacsq.org
SUMMARY:Activité régionale sur l'environnement
DESCRIPTION:Hôtel Best Western\, 420\, Mgr Dubois\, Saint-Jérôme \nConférence de Mme. Lucie Sauvé L’environnement \n13 h Visionnement du film Odyssée sous les glaces (comité régional de l’environnement)
URL:https://deuxriviereslaval.areq.lacsq.org/event/activite-regionale-sur-lenvironnement/
LOCATION:Hôtel Best Western\, 420\, boul. Mgr Dubois\, Saint-Jérôme\, Québec\, J7Y 3L8\, Canada
END:VEVENT
END:VCALENDAR