BEGIN:VCALENDAR
VERSION:2.0
PRODID:-//Secteur Deux-Rivières-de-Laval - ECPv5.14.0.4//NONSGML v1.0//EN
CALSCALE:GREGORIAN
METHOD:PUBLISH
X-WR-CALNAME:Secteur Deux-Rivières-de-Laval
X-ORIGINAL-URL:https://deuxriviereslaval.areq.lacsq.org
X-WR-CALDESC:évènements pour Secteur Deux-Rivières-de-Laval
BEGIN:VTIMEZONE
TZID:America/New_York
BEGIN:DAYLIGHT
TZOFFSETFROM:-0500
TZOFFSETTO:-0400
TZNAME:EDT
DTSTART:20190310T070000
END:DAYLIGHT
BEGIN:STANDARD
TZOFFSETFROM:-0400
TZOFFSETTO:-0500
TZNAME:EST
DTSTART:20191103T060000
END:STANDARD
END:VTIMEZONE
BEGIN:VEVENT
DTSTART;TZID=America/New_York:20190925T100000
DTEND;TZID=America/New_York:20190925T113500
DTSTAMP:20260424T085855
CREATED:20190924T180133Z
LAST-MODIFIED:20190924T180133Z
UID:843-1569405600-1569411300@deuxriviereslaval.areq.lacsq.org
SUMMARY:Activité de marche au Centre de la nature de Laval\, suivie d'un dîner
DESCRIPTION:Ce message s’adresse autant aux femmes qu’aux hommes\nqui sont membres ou ami-e-s du secteur Chomedey-Laval. \nLe Comité des hommes (CDH) du secteur Chomedey-Laval invite toutes les personnes intéressées (autant les femmes que les hommes) membres ou amies de se joindre à lui pour participer à une marche récréative\, vivifiante et en agréable compagnie : \n\nLe mercredi 25 septembre 2019\, de 10h00 à 11h30 (réservations non requises);\nAu Centre de la nature de Laval\, 901 avenue du Parc (entre le boulevard de la Concorde et le boulevard Saint-Martin\, juste à l’ouest du boulevard Pie-IX);\nLieu de rassemblement pour le départ (à 10h00) et pour le retour (à 11h30) : dans le stationnement du Pavillon d’accueil.\n\nVenez remplir vos poumons avec un air parfumé par les feuilles tombées\, vous délier les jambes en notre compagnie et admirer les belles couleurs d’automne qui commencent à se montrer. N’oubliez pas d’enfiler vos vêtements chauds et confortables et vos chaussures de sport préférées (plus l’imperméable et/ou le parapluie si la météo veut faire la méchante). \nLe stationnement du Centre de la nature étant payant pour les non-résidents de Laval\, veuillez prévoir quelques dollars le cas échéant. Sinon\, le stationnement sur rue est possible\, mais plusieurs zones sont réservées aux autos avec vignette (prévoir du temps supplémentaire de marche en ce cas pour arriver à l’heure). \nD’autre part\, les sentiers de marche du Centre de la nature étant pavés\, l’activité sera maintenue en cas de pluie… mais on ne marchera pas dans la boue ! \nDurant l’activité\, il pourrait se former des sous-groupes qui désireraient : \n\nMarcher plus vite… ou moins vite;\nFaire une visite gratuite de la ferme et du coin pâturage;\nFaire une visite gratuite des jardins et de la serre tropicale;\nAller flâner un peu sur un des bancs en bordure de l’étang.\n\nOn se passe le mot pour être revenus au lieu de rassemblement pour 11h30 afin de recueillir vos noms et premières impressions. Par la suite\, toutes les personnes qui le désirent se rendront à la microbrasserie Les Insulaires (275\, boulevard de la Concorde Est\, Laval) pour manger et boire à leurs frais et continuer à fraterniser. \nPour informations supplémentaires\, n’hésitez pas à communiquer avec le soussigné par téléphone au (514) 945-2686. \nMichel Legault\nresponsable du CDH
URL:https://deuxriviereslaval.areq.lacsq.org/event/activite-de-marche-au-centre-de-la-nature-de-laval-suivie-dun-diner/
LOCATION:Centre de la nature de Laval\, 901 avenue du Parc\, Laval\, Québec\, Canada
END:VEVENT
END:VCALENDAR