BEGIN:VCALENDAR
VERSION:2.0
PRODID:-//Secteur Deux-Rivières-de-Laval - ECPv5.14.0.4//NONSGML v1.0//EN
CALSCALE:GREGORIAN
METHOD:PUBLISH
X-WR-CALNAME:Secteur Deux-Rivières-de-Laval
X-ORIGINAL-URL:https://deuxriviereslaval.areq.lacsq.org
X-WR-CALDESC:évènements pour Secteur Deux-Rivières-de-Laval
BEGIN:VTIMEZONE
TZID:America/New_York
BEGIN:DAYLIGHT
TZOFFSETFROM:-0500
TZOFFSETTO:-0400
TZNAME:EDT
DTSTART:20210314T070000
END:DAYLIGHT
BEGIN:STANDARD
TZOFFSETFROM:-0400
TZOFFSETTO:-0500
TZNAME:EST
DTSTART:20211107T060000
END:STANDARD
END:VTIMEZONE
BEGIN:VEVENT
DTSTART;TZID=America/New_York:20210527T130000
DTEND;TZID=America/New_York:20210527T130000
DTSTAMP:20260424T071600
CREATED:20210522T143038Z
LAST-MODIFIED:20210522T143048Z
UID:1352-1622120400-1622120400@deuxriviereslaval.areq.lacsq.org
SUMMARY:26e anniversaire de la MARCHE DU PAIN ET DES ROSES avec Madame Françoise David
DESCRIPTION:C’est avec plaisir que je vous transmets cette invitation transférée par Mme Claire Blais Corbeil\, notre responsable régionale du comité des femmes.\nCette conférence Zoom : * 26e ANNIVERSAIRE DE LA MARCHE DU PAIN ET DES ROSES * s’adresse à toutes et à tous.\nPauline Lauzière Lamy\nresponsable du comité des femmes au secteur Deux-Rivières-de-Laval\n\n Le comité Chaudière-Appalaches de la MMF (Marche mondiale des femmes) vous invite à souligner le 26e anniversaire de la Marche du pain et des roses.  \nEn compagnie de Madame Françoise David\, nous parlerons de l’historique de la marche\, du rôle important des femmes des régions\, du bilan de l’action et des gains obtenus. \nC’est une conférence qui sera certainement très intéressante et gratuite en plus. Elle s’adresse à toutes et à tous. \nVoici donc le lien pour le zoom : https://us02web.zoom.us/j/86211434154 \nÉvènement Facebook : https://fb.me/e/3PN8u5t4D.
URL:https://deuxriviereslaval.areq.lacsq.org/event/26e-anniversaire-de-la-marche-du-pain-et-des-roses-avec-madame-francoise-david/
END:VEVENT
END:VCALENDAR